BEGIN:VCALENDAR
VERSION:2.0
PRODID:-//wp-events-plugin.com//7.2.3.1//EN
BEGIN:VEVENT
UID:1@nopescope.ch
DTSTART:20261001T140000Z
DTEND:20261004T140000Z
DTSTAMP:20260421T091541Z
URL:https://nopescope.ch/veranstaltung/switzerlan/
SUMMARY:Switzerlan
DESCRIPTION:
END:VEVENT
END:VCALENDAR